BEGIN:VCALENDAR
METHOD:PUBLISH
PRODID:www-izkf-med-fau-de//Events//DE
VERSION:2.0
BEGIN:VEVENT
SUMMARY:IZKF-Visiting Professor Programme: Decoding the Complexities o
 f Tooth and Palate Development Through Spatial Transcriptomics
UID:040000008200E00074C5B7101A82E00800000000A52C8A0F43A5DB010000000000
 00000010000000FD55F1E4CCA57E4284D68CE1DD5C2C36
DESCRIPTION:Sonderseminar IZKF-Visiting Professor Programme Decoding t
 he Complexities of Tooth and Palate Development Through Spatial Transc
 riptomics Prof. Dr. Rena D’Souza Former Director NIDCR-NIH (National
  Institute of Dental and Craniofacial Research) Washington DC\, USA Ze
 it: Montag\, den 23.06.2025 ab 16:30- 18:00 Ort: Hörsaal I der Zahnkl
 inik\, Glückstraße 11\, 91054 Erlangen
DTSTART:20250623T163000Z
DTEND:20250623T180000Z
LOCATION:Prof. Dr. Rena D’Souza\, NIDCR-NIH | Hörsaal Zahnklinik
DTSTAMP:20260422T075646Z
END:VEVENT
END:VCALENDAR